BEGIN:VCALENDAR
VERSION:2.0
BEGIN:VEVENT
UID:ics69ed1525c516d
DTSTAMP:20260425T192525Z
LOCATION:Seminar Eutin\, Garten am frischen Wasser
DESCRIPTION:
URL:https://www.klima-erden.de/aktuell/wurmkisten-bokashi-und-brennesseljauche/
SUMMARY:Wurmkisten\, Bokashi und Co.
DTSTART:20220831T150000Z
DTEND:20220831T170000Z
END:VEVENT
END:VCALENDAR
