BEGIN:VCALENDAR
VERSION:2.0
BEGIN:VEVENT
UID:ics69ed0ed6ec5c7
DTSTAMP:20260425T185830Z
LOCATION:
DESCRIPTION:
URL:https://www.klima-erden.de/aktuell/wir-werden-klimaretterinnen/
SUMMARY:Wir werden Klimaretter*innen
DTSTART:20230301T100000Z
DTEND:20230301T085700Z
END:VEVENT
END:VCALENDAR
