BEGIN:VCALENDAR
VERSION:2.0
BEGIN:VEVENT
UID:ics69ed1013c0d14
DTSTAMP:20260425T190347Z
LOCATION:Neu Kaliß
DESCRIPTION:
URL:https://www.klima-erden.de/aktuell/wildkraeuter-erkennen-und-zubereiten/
SUMMARY:Wildkräuter erkennen und zubereiten
DTSTART:20231014T080000Z
DTEND:20231014T150000Z
END:VEVENT
END:VCALENDAR
