BEGIN:VCALENDAR
VERSION:2.0
BEGIN:VEVENT
UID:ics69ed10756d554
DTSTAMP:20260425T190525Z
LOCATION:Stoltenberg
DESCRIPTION:
URL:https://www.klima-erden.de/aktuell/wild-kraeuter-ein-geschenk-der-natur/
SUMMARY:(Wild-)Kräuter – ein Geschenk der Natur
DTSTART:20240413T120000Z
DTEND:20240413T150000Z
END:VEVENT
END:VCALENDAR
