BEGIN:VCALENDAR
VERSION:2.0
BEGIN:VEVENT
UID:ics69ed110fda45a
DTSTAMP:20260425T190759Z
LOCATION:24256 Stoltenberg
DESCRIPTION:
URL:https://www.klima-erden.de/aktuell/wild-kraeuter-ein-geschenk-der-natur-2/
SUMMARY:(Wild-)Kräuter – ein Geschenk der Natur
DTSTART:20250427T120000Z
DTEND:20250427T150000Z
END:VEVENT
END:VCALENDAR
