BEGIN:VCALENDAR
VERSION:2.0
BEGIN:VEVENT
UID:ics69e8dd982e82e
DTSTAMP:20260422T143920Z
LOCATION:Workshop im Klempau Nahe Lübeck
DESCRIPTION:
URL:https://www.klima-erden.de/aktuell/wie-lege-ich-ein-gemuesebeet-an/
SUMMARY:Wie lege ich ein Gemüsebeet an?
DTSTART:20220331T140000Z
DTEND:20220331T160000Z
END:VEVENT
END:VCALENDAR
