BEGIN:VCALENDAR
VERSION:2.0
BEGIN:VEVENT
UID:ics69ed175de0110
DTSTAMP:20260425T193453Z
LOCATION:Stralsund
DESCRIPTION:
URL:https://www.klima-erden.de/aktuell/weihnachtskalender-gestalten-im-upcycling-prozess/
SUMMARY:Weihnachtskalender gestalten: Im Upcycling Prozess 
DTSTART:20231128T140000Z
DTEND:20231128T160000Z
END:VEVENT
END:VCALENDAR
