BEGIN:VCALENDAR
VERSION:2.0
BEGIN:VEVENT
UID:ics69ecfeb9ec3f9
DTSTAMP:20260425T174945Z
LOCATION:ONLINE
DESCRIPTION:
URL:https://www.klima-erden.de/aktuell/was-hat-die-muecke-je-fuer-uns-getan/
SUMMARY:"Was hat die Mücke je für uns getan?"
DTSTART:20250930T170000Z
DTEND:20250930T183000Z
END:VEVENT
END:VCALENDAR
