BEGIN:VCALENDAR
VERSION:2.0
BEGIN:VEVENT
UID:ics69ed11b73b76d
DTSTAMP:20260425T191047Z
LOCATION:Onlineseminar für alle
DESCRIPTION:
URL:https://www.klima-erden.de/aktuell/warum-saatgut-erhalten-werden-muss-und-wie-das-geht-1/
SUMMARY:Warum Saatgut erhalten werden muss und wie das geht
DTSTART:20210504T170000Z
DTEND:20210504T183000Z
END:VEVENT
END:VCALENDAR
