BEGIN:VCALENDAR
VERSION:2.0
BEGIN:VEVENT
UID:ics69ed0ef15da9a
DTSTAMP:20260425T185857Z
LOCATION:
DESCRIPTION:
URL:https://www.klima-erden.de/aktuell/voegel-fuettern-aber-richtig/
SUMMARY:Vögel füttern-aber richtig
DTSTART:20230120T150000Z
DTEND:20230120T190000Z
END:VEVENT
END:VCALENDAR
