BEGIN:VCALENDAR
VERSION:2.0
BEGIN:VEVENT
UID:ics69ed0ef0c6562
DTSTAMP:20260425T185856Z
LOCATION:Online für alle
DESCRIPTION:
URL:https://www.klima-erden.de/aktuell/visionen-einer-theologie-der-mitgeschoepflichkeit/
SUMMARY:Visionen einer Theologie der Mitgeschöpflichkeit
DTSTART:20250129T160000Z
DTEND:20250129T173000Z
END:VEVENT
END:VCALENDAR
