BEGIN:VCALENDAR
VERSION:2.0
BEGIN:VEVENT
UID:ics69ed101a42400
DTSTAMP:20260425T190354Z
LOCATION:Alte Schloßgärtnerei Plön
DESCRIPTION:
URL:https://www.klima-erden.de/aktuell/vielfalt-in-der-ploener-schlossgaertnerei/
SUMMARY:Vielfalt in der Plöner Schlossgärtnerei
DTSTART:20240918T140000Z
DTEND:20240918T160000Z
END:VEVENT
END:VCALENDAR
