BEGIN:VCALENDAR
VERSION:2.0
BEGIN:VEVENT
UID:ics69ed0ed6e1b70
DTSTAMP:20260425T185830Z
LOCATION:Reinfeld
DESCRIPTION:
URL:https://www.klima-erden.de/aktuell/vielfalt-im-schoepfungsgarten/
SUMMARY:Vielfalt im Schöpfungsgarten
DTSTART:20240927T140000Z
DTEND:20240927T153000Z
END:VEVENT
END:VCALENDAR
