BEGIN:VCALENDAR
VERSION:2.0
BEGIN:VEVENT
UID:ics69ed0ed769158
DTSTAMP:20260425T185831Z
LOCATION:Alsterquelle\,  Henstedt-Ulzburg
DESCRIPTION:
URL:https://www.klima-erden.de/aktuell/vielfalt-der-lebensraeume-moore/
SUMMARY:Vielfalt der Lebensräume – Moore
DTSTART:20240901T130000Z
DTEND:20240901T150000Z
END:VEVENT
END:VCALENDAR
