BEGIN:VCALENDAR
VERSION:2.0
BEGIN:VEVENT
UID:ics69ed0e341b237
DTSTAMP:20260425T185548Z
LOCATION:Seminar in der Anlaufstelle Nachbarschaft Hassee
DESCRIPTION:
URL:https://www.klima-erden.de/aktuell/tomatenvielfalt-erleben-und-kosten/
SUMMARY:Tomatenvielfalt erleben und kosten
DTSTART:20221004T080000Z
DTEND:20221004T100000Z
END:VEVENT
END:VCALENDAR
