BEGIN:VCALENDAR
VERSION:2.0
BEGIN:VEVENT
UID:ics69ed1119637e6
DTSTAMP:20260425T190809Z
LOCATION:Neustadt in Holstein
DESCRIPTION:
URL:https://www.klima-erden.de/aktuell/tiere-und-pflanzen-am-neustaedter-binnenwasser/
SUMMARY:Tiere und Pflanzen am Neustädter Binnenwasser 
DTSTART:20250617T150000Z
DTEND:20250617T170000Z
END:VEVENT
END:VCALENDAR
