BEGIN:VCALENDAR
VERSION:2.0
BEGIN:VEVENT
UID:ics69ed10b85efa9
DTSTAMP:20260425T190632Z
LOCATION:18249 Dreetz
DESCRIPTION:
URL:https://www.klima-erden.de/aktuell/streuobst-gehoelzpflege-1/
SUMMARY:Streuobstwiesen - Gehölzpflege 
DTSTART:20240309T070000Z
DTEND:20240309T140000Z
END:VEVENT
END:VCALENDAR
