BEGIN:VCALENDAR
VERSION:2.0
BEGIN:VEVENT
UID:ics69ed110f6f04c
DTSTAMP:20260425T190759Z
LOCATION:Online 
DESCRIPTION:
URL:https://www.klima-erden.de/aktuell/sonnenfrau-erdmutter-und-die-grosse-drachenflut/
SUMMARY:Sonnenfrau\, Erdmutter und die große Drachenflut
DTSTART:20240227T160000Z
DTEND:20240227T173000Z
END:VEVENT
END:VCALENDAR
