BEGIN:VCALENDAR
VERSION:2.0
BEGIN:VEVENT
UID:ics69ed1000764b3
DTSTAMP:20260425T190328Z
LOCATION:Sietow/ Müritz - Für alle
DESCRIPTION:
URL:https://www.klima-erden.de/aktuell/sensenkurs-und-dengelkurs-in-sietow-mueritz/
SUMMARY:Sensenkurs und Dengelkurs in Sietow / Müritz
DTSTART:20230610T170000Z
DTEND:20230611T163000Z
END:VEVENT
END:VCALENDAR
