BEGIN:VCALENDAR
VERSION:2.0
BEGIN:VEVENT
UID:ics69ed0fd764966
DTSTAMP:20260425T190247Z
LOCATION:Exkursion in Klempau
DESCRIPTION:
URL:https://www.klima-erden.de/aktuell/samenfeste-gemuesesorten-erhalten/
SUMMARY:Samenfeste Gemüsesorten erhalten
DTSTART:20211007T140000Z
DTEND:20211007T160000Z
END:VEVENT
END:VCALENDAR
