BEGIN:VCALENDAR
VERSION:2.0
BEGIN:VEVENT
UID:ics69ed0fd761cfd
DTSTAMP:20260425T190247Z
LOCATION:Saatguttauschbörse
DESCRIPTION:
URL:https://www.klima-erden.de/aktuell/saatguttauschboerse-in-rendsburg/
SUMMARY:Saatguttauschbörse in Rendsburg
DTSTART:20220303T140000Z
DTEND:20220303T160000Z
END:VEVENT
END:VCALENDAR
