BEGIN:VCALENDAR
VERSION:2.0
BEGIN:VEVENT
UID:ics69ed13c619577
DTSTAMP:20260425T191934Z
LOCATION:Digitale Veranstaltung - Für alle
DESCRIPTION:
URL:https://www.klima-erden.de/aktuell/saatgut-erhalten-klimabewusstsein-erden-1/
SUMMARY:Saatgut erhalten\, Klimabewusstsein erden
DTSTART:20210318T160000Z
DTEND:20210318T180000Z
END:VEVENT
END:VCALENDAR
