BEGIN:VCALENDAR
VERSION:2.0
BEGIN:VEVENT
UID:ics69ed1364d4912
DTSTAMP:20260425T191756Z
LOCATION:Besuch bei „Rosen – Garten – Kultur“ in Stoltenberg mit Führung
DESCRIPTION:
URL:https://www.klima-erden.de/aktuell/rosen-und-wilde-blumen/
SUMMARY:Rosen und wilde Blumen 
DTSTART:20220610T140000Z
DTEND:20220610T160000Z
END:VEVENT
END:VCALENDAR
