BEGIN:VCALENDAR
VERSION:2.0
BEGIN:VEVENT
UID:ics69ed0ef0ddb85
DTSTAMP:20260425T185856Z
LOCATION:ONLINE
DESCRIPTION:
URL:https://www.klima-erden.de/aktuell/projekt-vielfalt-waechst-klimabewusstsein-erden/
SUMMARY:Projekt „Vielfalt wächst – Klimabewusstsein erden“
DTSTART:20231011T170000Z
DTEND:20231011T183000Z
END:VEVENT
END:VCALENDAR
