BEGIN:VCALENDAR
VERSION:2.0
BEGIN:VEVENT
UID:ics69ed0ecd59162
DTSTAMP:20260425T185821Z
LOCATION:Hamburg Stellingen
DESCRIPTION:
URL:https://www.klima-erden.de/aktuell/pflanz-einen-wald/
SUMMARY:Pflanz einen Wald!
DTSTART:20241103T090000Z
DTEND:20241103T120000Z
END:VEVENT
END:VCALENDAR
