BEGIN:VCALENDAR
VERSION:2.0
BEGIN:VEVENT
UID:ics69ed135a70e50
DTSTAMP:20260425T191746Z
LOCATION:Vortrag mit Garteneinsatz\, Picknick und Führung durch den Luthergarten in Hamburg
DESCRIPTION:
URL:https://www.klima-erden.de/aktuell/permakultur-in-der-praxis/
SUMMARY:Permakultur in der Praxis
DTSTART:20220625T130000Z
DTEND:20220625T150000Z
END:VEVENT
END:VCALENDAR
