BEGIN:VCALENDAR
VERSION:2.0
BEGIN:VEVENT
UID:ics69ed111974ffc
DTSTAMP:20260425T190809Z
LOCATION:Kollhorst\, Kiel
DESCRIPTION:
URL:https://www.klima-erden.de/aktuell/o-edelstes-gruen-in-der-sonne-du-wurzelst/
SUMMARY:„O edelstes Grün\, in der Sonne du wurzelst“*
DTSTART:20240427T120000Z
DTEND:20240427T143000Z
END:VEVENT
END:VCALENDAR
