BEGIN:VCALENDAR
VERSION:2.0
BEGIN:VEVENT
UID:ics69ed17f668f12
DTSTAMP:20260425T193726Z
LOCATION:Neu Kaliß OT Heiddorf 
DESCRIPTION:
URL:https://www.klima-erden.de/aktuell/nuetzlings-teich-anlegen/
SUMMARY:Nützlings Teich anlegen
DTSTART:20231118T070000Z
DTEND:20231118T140000Z
END:VEVENT
END:VCALENDAR
