BEGIN:VCALENDAR
VERSION:2.0
BEGIN:VEVENT
UID:ics69ed0f1997f5d
DTSTAMP:20260425T185937Z
LOCATION:Schlossgarten Plön
DESCRIPTION:
URL:https://www.klima-erden.de/aktuell/naturverbundenheit-staerken/
SUMMARY:Naturverbundenheit stärken 
DTSTART:20250404T130000Z
DTEND:20250404T150000Z
END:VEVENT
END:VCALENDAR
