BEGIN:VCALENDAR
VERSION:2.0
BEGIN:VEVENT
UID:ics69ed13b0b0342
DTSTAMP:20260425T191912Z
LOCATION:Outdoorworkshop für alle
DESCRIPTION:
URL:https://www.klima-erden.de/aktuell/naturnahe-und-attraktive-orte-im-garten/
SUMMARY:Naturnahe und attraktive Orte im Garten  
DTSTART:20220423T080000Z
DTEND:20220423T103000Z
END:VEVENT
END:VCALENDAR
