BEGIN:VCALENDAR
VERSION:2.0
BEGIN:VEVENT
UID:ics69ed0fff96fc3
DTSTAMP:20260425T190327Z
LOCATION:Kasseedorf
DESCRIPTION:
URL:https://www.klima-erden.de/aktuell/naturgemaesse-waldwirschaft-im-forstrevier-kasseedorf/
SUMMARY:Naturgemäße Waldwirschaft im Forstrevier Kasseedorf
DTSTART:20240920T120000Z
DTEND:20240920T150000Z
END:VEVENT
END:VCALENDAR
