BEGIN:VCALENDAR
VERSION:2.0
BEGIN:VEVENT
UID:ics69ed110f6dec9
DTSTAMP:20260425T190759Z
LOCATION:Demeter Obsthof Mehrens\, Neumünster
DESCRIPTION:
URL:https://www.klima-erden.de/aktuell/natuerl-ich-mit-leib-und-seele-2/
SUMMARY:Natürl-ich mit Leib und Seele
DTSTART:20240706T090000Z
DTEND:20240706T130000Z
END:VEVENT
END:VCALENDAR
