BEGIN:VCALENDAR
VERSION:2.0
BEGIN:VEVENT
UID:ics69ed12196f770
DTSTAMP:20260425T191225Z
LOCATION:
DESCRIPTION:
URL:https://www.klima-erden.de/aktuell/mut-waechst-schoepfungsbewusstsein-erden/
SUMMARY:Mut wächst – Schöpfungsbewusstsein erden
DTSTART:20210209T110000Z
DTEND:20210209T150000Z
END:VEVENT
END:VCALENDAR
