BEGIN:VCALENDAR
VERSION:2.0
BEGIN:VEVENT
UID:ics69ed17fc198e8
DTSTAMP:20260425T193732Z
LOCATION:online 
DESCRIPTION:
URL:https://www.klima-erden.de/aktuell/multiplikatorinnen-qualifizierung-vielfalt-waechst/
SUMMARY:Multiplikator*innen Qualifizierung "Vielfalt wächst"
DTSTART:20240119T130000Z
DTEND:20240615T140000Z
END:VEVENT
END:VCALENDAR
