BEGIN:VCALENDAR
VERSION:2.0
BEGIN:VEVENT
UID:ics69ed17eb8f7ce
DTSTAMP:20260425T193715Z
LOCATION:
DESCRIPTION:
URL:https://www.klima-erden.de/aktuell/mostwochenende-im-olgashof/
SUMMARY:Mostwochenende auf dem Olgashof 
DTSTART:20231021T090000Z
DTEND:20231022T160000Z
END:VEVENT
END:VCALENDAR
