BEGIN:VCALENDAR
VERSION:2.0
BEGIN:VEVENT
UID:ics69ed1119e0a65
DTSTAMP:20260425T190809Z
LOCATION:online 
DESCRIPTION:
URL:https://www.klima-erden.de/aktuell/modul-4-multiplikatorinnen-qualifizierung-vielfalt-waechst/
SUMMARY:Modul 4 Multiplikator*innen Qualifizierung "Vielfalt wächst"
DTSTART:20250425T140000Z
DTEND:20250425T173000Z
END:VEVENT
END:VCALENDAR
