BEGIN:VCALENDAR
VERSION:2.0
BEGIN:VEVENT
UID:ics69ed101a8a67e
DTSTAMP:20260425T190354Z
LOCATION:online 
DESCRIPTION:
URL:https://www.klima-erden.de/aktuell/modul-3-multiplikatorinnen-qualifizierung-vielfalt-waechst/
SUMMARY:Modul 3 Multiplikator*innen Qualifizierung "Vielfalt wächst" 
DTSTART:20250328T130000Z
DTEND:20250328T163000Z
END:VEVENT
END:VCALENDAR
