BEGIN:VCALENDAR
VERSION:2.0
BEGIN:VEVENT
UID:ics69ed101b96c58
DTSTAMP:20260425T190355Z
LOCATION:Online-Veranstaltung
DESCRIPTION:
URL:https://www.klima-erden.de/aktuell/mein-start-ins-gartenjahr/
SUMMARY:Mein Start ins Gartenjahr
DTSTART:20210120T160000Z
DTEND:20210120T180000Z
END:VEVENT
END:VCALENDAR
