BEGIN:VCALENDAR
VERSION:2.0
BEGIN:VEVENT
UID:ics69ed1013b5fac
DTSTAMP:20260425T190347Z
LOCATION:Burg Stargard
DESCRIPTION:
URL:https://www.klima-erden.de/aktuell/lebensraeume-fuer-ohrenwuermer/
SUMMARY:Lebensräume für Ohrenwürmer
DTSTART:20250315T140000Z
DTEND:20250315T160000Z
END:VEVENT
END:VCALENDAR
