BEGIN:VCALENDAR
VERSION:2.0
BEGIN:VEVENT
UID:ics69ed0e341c050
DTSTAMP:20260425T185548Z
LOCATION:Kath. Studierendengemeinde Rostock
DESCRIPTION:
URL:https://www.klima-erden.de/aktuell/lebensraeume-fuer-fledermaeuse/
SUMMARY:Lebensräume für Fledermäuse 
DTSTART:20241118T170000Z
DTEND:20241118T183000Z
END:VEVENT
END:VCALENDAR
