BEGIN:VCALENDAR
VERSION:2.0
BEGIN:VEVENT
UID:ics69ed0e1fb2623
DTSTAMP:20260425T185527Z
LOCATION:
DESCRIPTION:
URL:https://www.klima-erden.de/aktuell/kraeutermarkt-in-liepe/
SUMMARY:Kräutermarkt in Liepe 
DTSTART:20230603T080000Z
DTEND:19691231T210000Z
END:VEVENT
END:VCALENDAR
