BEGIN:VCALENDAR
VERSION:2.0
BEGIN:VEVENT
UID:ics69ed1000004a2
DTSTAMP:20260425T190328Z
LOCATION:Pfarrhaus Biestow Rostock - Für Frauen
DESCRIPTION:
URL:https://www.klima-erden.de/aktuell/klimaschutz-und-was-wir-im-eigenen-garten-dafuer-tun-koennen/
SUMMARY:Frauenfrühstück - Klimaschutz im eigenen Garten
DTSTART:20230601T073000Z
DTEND:20230601T093000Z
END:VEVENT
END:VCALENDAR
