BEGIN:VCALENDAR
VERSION:2.0
BEGIN:VEVENT
UID:ics69ed1014ebd83
DTSTAMP:20260425T190348Z
LOCATION:Outdoorseminar Alte Sclossgärtnerei Plön
DESCRIPTION:
URL:https://www.klima-erden.de/aktuell/klimaretter-humus/
SUMMARY:Klimaretter Humus
DTSTART:20210924T150000Z
DTEND:20210924T173000Z
END:VEVENT
END:VCALENDAR
