BEGIN:VCALENDAR
VERSION:2.0
BEGIN:VEVENT
UID:ics69ed0fd881e2f
DTSTAMP:20260425T190248Z
LOCATION:Christian Jensen Kolleg\, Breklum
DESCRIPTION:
URL:https://www.klima-erden.de/aktuell/klimakrise-und-nun/
SUMMARY:Klimakrise - und nun?
DTSTART:20240712T150000Z
DTEND:20240713T160000Z
END:VEVENT
END:VCALENDAR
