BEGIN:VCALENDAR
VERSION:2.0
BEGIN:VEVENT
UID:ics69ed0eccc66f3
DTSTAMP:20260425T185820Z
LOCATION:Pfarrhaus\, Lübz
DESCRIPTION:
URL:https://www.klima-erden.de/aktuell/klimabewusstsein-erden/
SUMMARY:Klimabewusstsein erden
DTSTART:20241108T110000Z
DTEND:20241108T130000Z
END:VEVENT
END:VCALENDAR
