BEGIN:VCALENDAR
VERSION:2.0
BEGIN:VEVENT
UID:ics69ed10ad11df2
DTSTAMP:20260425T190621Z
LOCATION:Online-Seminar
DESCRIPTION:
URL:https://www.klima-erden.de/aktuell/klimabewusstsein-erden-mut-waechst-ein-projekt-der-nordkirche/
SUMMARY:„Klimabewusstsein erden - Mut wächst“- ein Projekt der Nordkirche
DTSTART:20210915T150000Z
DTEND:20210915T163000Z
END:VEVENT
END:VCALENDAR
