BEGIN:VCALENDAR
VERSION:2.0
BEGIN:VEVENT
UID:ics69ed141e86494
DTSTAMP:20260425T192102Z
LOCATION:Outdoor Workshop
DESCRIPTION:
URL:https://www.klima-erden.de/aktuell/klimabewusstsein-erden-kompost-co-samenfeste-alte-gemuesesorten/
SUMMARY:„Klimabewusstsein erden\, Kompost & Co\, samenfeste alte Gemüsesorten“
DTSTART:20210424T123000Z
DTEND:20210424T150000Z
END:VEVENT
END:VCALENDAR
