BEGIN:VCALENDAR
VERSION:2.0
BEGIN:VEVENT
UID:ics69ed10143d884
DTSTAMP:20260425T190348Z
LOCATION:OZEANEUM Stralsund
DESCRIPTION:
URL:https://www.klima-erden.de/aktuell/klimabewusstsein-erden-insektenvielfalt-bewahren/
SUMMARY:Insektenvielfalt bewahren!
DTSTART:20230823T120000Z
DTEND:20230823T163000Z
END:VEVENT
END:VCALENDAR
