BEGIN:VCALENDAR
VERSION:2.0
BEGIN:VEVENT
UID:ics69ed146a72bc8
DTSTAMP:20260425T192218Z
LOCATION:Onlineseminar für alle Geschlechter
DESCRIPTION:
URL:https://www.klima-erden.de/aktuell/klimabewusstsein-erden-in-der-kita/
SUMMARY:Klimabewusstsein erden - in der Kita
DTSTART:20210909T153000Z
DTEND:20210909T173000Z
END:VEVENT
END:VCALENDAR
