BEGIN:VCALENDAR
VERSION:2.0
BEGIN:VEVENT
UID:ics69ed13ab6fb1b
DTSTAMP:20260425T191907Z
LOCATION:Exkursion zur Carbo-FORCE-Pyrolyseanlage nach Borgstedt
DESCRIPTION:
URL:https://www.klima-erden.de/aktuell/klimabewusstsein-erden-besichtigung-einer-pyrolyseanlage/
SUMMARY:Klimabewusstsein erden – Besichtigung einer Pyrolyseanlage
DTSTART:20220616T133000Z
DTEND:20220616T150000Z
END:VEVENT
END:VCALENDAR
